BEGIN:VCALENDAR
VERSION:2.0
PRODID:-//ChamberMaster//Event Calendar 2.0//EN
METHOD:PUBLISH
X-PUBLISHED-TTL:P3D
REFRESH-INTERVAL:P3D
CALSCALE:GREGORIAN
BEGIN:VEVENT
DTSTART:20100123T013000Z
DTEND:20100123T013000Z
X-MICROSOFT-CDO-ALLDAYEVENT:FALSE
SUMMARY:Palm Valley Gymnastics Presents Sleeping Beauty Ballet
DESCRIPTION:For ticket information\, please call 956-216-5990 or visit www.harlingenarts.com.
X-ALT-DESC;FMTTYPE=text/html:For ticket information\, please call 956-216-5990 or visit www.harlingenarts.com.
LOCATION:
UID:e.1828.2271
SEQUENCE:3
DTSTAMP:20260422T112124Z
URL:https://business.harlingen.com/events/details/palm-valley-gymnastics-presents-sleeping-beauty-ballet-01-22-2010-2271
END:VEVENT

END:VCALENDAR
