BEGIN:VCALENDAR
VERSION:2.0
PRODID:-//ChamberMaster//Event Calendar 2.0//EN
METHOD:PUBLISH
X-PUBLISHED-TTL:P3D
REFRESH-INTERVAL:P3D
CALSCALE:GREGORIAN
BEGIN:VEVENT
DTSTART:20110216T233000Z
DTEND:20110216T233000Z
X-MICROSOFT-CDO-ALLDAYEVENT:FALSE
SUMMARY:Papa Joe's Burgers & Stuff Business After Hours Mixer
DESCRIPTION:You are invited to join Papa Joe's Burgers & Stuff as they celebrate their Grand Opening and Ribbon Cutting ceremony. Mixer will include live entertainment\, food\, and adult beverages.
X-ALT-DESC;FMTTYPE=text/html:You are invited to join Papa Joe's Burgers & Stuff as they celebrate their Grand Opening and Ribbon Cutting ceremony. Mixer will include live entertainment\, food\, and adult beverages. \n\n
LOCATION:(Corner of "L" & Jefferson in Fair Park)
UID:e.1828.2909
SEQUENCE:3
DTSTAMP:20260421T142909Z
URL:https://business.harlingen.com/events/details/papa-joe-s-burgers-stuff-business-after-hours-mixer-02-16-2011-2909
END:VEVENT

END:VCALENDAR
