BEGIN:VCALENDAR
VERSION:2.0
PRODID:-//ChamberMaster//Event Calendar 2.0//EN
METHOD:PUBLISH
X-PUBLISHED-TTL:P3D
REFRESH-INTERVAL:P3D
CALSCALE:GREGORIAN
BEGIN:VEVENT
DTSTART:20120118T190000Z
DTEND:20120118T230000Z
X-MICROSOFT-CDO-ALLDAYEVENT:FALSE
SUMMARY:Paperless is Possible! - A free Seminar
DESCRIPTION:Paperless is Possible! - A free Seminar\nSave Time and Money while increasing Efficiency and Security with Electronic Document Management\nWednesday\, January 18  8a-12p or 1p-5p\nCASO Document Management has been offering Electronic Document Management Services and Solutions (EDMS) in the Valley for 16 years. CASO's founder\, Casey McClellan CDIA+\, invites you to attend an EDMS Seminar in your area.\n"Is Paperless Possible? - an Educational and Informational Forum"\nWith 20 years' experience providing Electronic Document Management Services\, McClellan welcomes the opportunity to speak with you and answer your questions:\n•	What is Electronic Document Management?\n•	How does scanning work?\n•	What is image processing?  Learn about Full Text\, Bar Codes\, OCR/ICR\, Mark Sense\, Database Integration\n•	How does Archiving and Retrieval work?\n•	How can eForms and Electronic Image Workflow replace my hardcopy processing procedures?\n•	What is Database Integration and Image Enabling?\n•	Enterprise system or Hosted System?\n•	What kind of ROI can be expected?      \nIf you would like to reserve a space or would like more information e-mail penny.king@caso.com or call 1-888-388-2276\, refer to the Valley Conference 2012 and ask for Penny King.\n \nPlease indicate either the morning session 8a-12n afternoon session 1p-5p. Continental Breakfast or a Light Lunch will be provided.
X-ALT-DESC;FMTTYPE=text/html:Paperless is Possible! - A free Seminar\nSave Time and Money while increasing Efficiency and Security with Electronic Document Management\nWednesday\, January 18  8a-12p or 1p-5p\nCASO Document Management has been offering Electronic Document Management Services and Solutions (EDMS) in the Valley for 16 years. CASO's founder\, Casey McClellan CDIA+\, invites you to attend an EDMS Seminar in your area.\n"Is Paperless Possible? - an Educational and Informational Forum"\nWith 20 years' experience providing Electronic Document Management Services\, McClellan welcomes the opportunity to speak with you and answer your questions:\n•	What is Electronic Document Management?\n•	How does scanning work?\n•	What is image processing?  Learn about Full Text\, Bar Codes\, OCR/ICR\, Mark Sense\, Database Integration\n•	How does Archiving and Retrieval work?\n•	How can eForms and Electronic Image Workflow replace my hardcopy processing procedures?\n•	What is Database Integration and Image Enabling?\n•	Enterprise system or Hosted System?\n•	What kind of ROI can be expected?      \nIf you would like to reserve a space or would like more information e-mail penny.king@caso.com or call 1-888-388-2276\, refer to the Valley Conference 2012 and ask for Penny King.\n \nPlease indicate either the morning session 8a-12n afternoon session 1p-5p. Continental Breakfast or a Light Lunch will be provided.\n\n\n    \n
LOCATION:
UID:e.1828.3298
SEQUENCE:3
DTSTAMP:20260420T212124Z
URL:https://business.harlingen.com/events/details/paperless-is-possible-a-free-seminar-01-18-2012-3298
END:VEVENT

END:VCALENDAR
