BEGIN:VCALENDAR
VERSION:2.0
PRODID:-//ChamberMaster//Event Calendar 2.0//EN
METHOD:PUBLISH
X-PUBLISHED-TTL:P3D
REFRESH-INTERVAL:P3D
CALSCALE:GREGORIAN
BEGIN:VEVENT
DTSTART:20120925T223000Z
DTEND:20120925T223000Z
X-MICROSOFT-CDO-ALLDAYEVENT:FALSE
SUMMARY:Pappos Bar Grand Opening
DESCRIPTION:Join us as we celebrate our grand opening with a ribbon cutting event!   Appetizers\, margaritas\, beer and wine will be served!
X-ALT-DESC;FMTTYPE=text/html:Join us as we celebrate our grand opening with a ribbon cutting event!   Appetizers\, margaritas\, beer and wine will be served! \n
LOCATION:
UID:e.1828.3946
SEQUENCE:3
DTSTAMP:20260420T100017Z
URL:https://business.harlingen.com/events/details/pappos-bar-grand-opening-09-25-2012-3946
END:VEVENT

END:VCALENDAR
