BEGIN:VCALENDAR
VERSION:2.0
PRODID:-//ChamberMaster//Event Calendar 2.0//EN
METHOD:PUBLISH
X-PUBLISHED-TTL:P3D
REFRESH-INTERVAL:P3D
CALSCALE:GREGORIAN
BEGIN:VEVENT
DTSTART:20100120T190000Z
DTEND:20100120T220000Z
X-MICROSOFT-CDO-ALLDAYEVENT:FALSE
SUMMARY:Passport Fair
DESCRIPTION:The Harlingen Area Chamber of Commerce is hosting another PASSPORT FAIR on Wednesday\, January 20th from 1:00 pm to 4:00 pm.  Applications processed by appointment only.  Cameron County clerks will be on hand to assist in the application process.  Applications & details for PASSPORTS & BORDER CROSSING CARDS may be picked up at the chamber beginning Wednesday\, January 6th.   Applicants must bring required photos & completed\, but UNSIGNED\, applications at time of appointment.   Number of applicants limited.  Call the chamber today to set up your appointment at 956-423-5440.
X-ALT-DESC;FMTTYPE=text/html:The Harlingen Area Chamber of Commerce is hosting another PASSPORT FAIR on Wednesday\, January 20th from 1:00 pm to 4:00 pm.  Applications processed by appointment only.  Cameron County clerks will be on hand to assist in the application process.  Applications & details for PASSPORTS & BORDER CROSSING CARDS may be picked up at the chamber beginning Wednesday\, January 6th.   Applicants must bring required photos & completed\, but UNSIGNED\, applications at time of appointment.   Number of applicants limited.  Call the chamber today to set up your appointment at 956-423-5440.
LOCATION:
UID:e.1828.2299
SEQUENCE:3
DTSTAMP:20260422T111605Z
URL:https://business.harlingen.com/events/details/passport-fair-01-20-2010-2299
END:VEVENT

END:VCALENDAR
