BEGIN:VCALENDAR
VERSION:2.0
PRODID:-//ChamberMaster//Event Calendar 2.0//EN
METHOD:PUBLISH
X-PUBLISHED-TTL:P3D
REFRESH-INTERVAL:P3D
CALSCALE:GREGORIAN
BEGIN:VEVENT
DTSTART:20110727T180000Z
DTEND:20110727T210000Z
X-MICROSOFT-CDO-ALLDAYEVENT:FALSE
SUMMARY:Passport Fair
DESCRIPTION:The Harlingen Chamber\, in partnership with the Cameron County Clerk's Office\, will be hosting a  \nPassport Fair. To make an appointment or to obtain further information\, please call Kathy Wolf at the Harlingen Chamber:  423-5565 x 212.
X-ALT-DESC;FMTTYPE=text/html:The Harlingen Chamber\, in partnership with the Cameron County Clerk's Office\, will be hosting a  \nPassport Fair. To make an appointment or to obtain further information\, please call Kathy Wolf at the Harlingen Chamber:  423-5565 x 212.\n
LOCATION:
UID:e.1828.3107
SEQUENCE:3
DTSTAMP:20260421T063842Z
URL:https://business.harlingen.com/events/details/passport-fair-07-27-2011-3107
END:VEVENT

END:VCALENDAR
