BEGIN:VCALENDAR
VERSION:2.0
PRODID:-//ChamberMaster//Event Calendar 2.0//EN
METHOD:PUBLISH
X-PUBLISHED-TTL:P3D
REFRESH-INTERVAL:P3D
CALSCALE:GREGORIAN
BEGIN:VEVENT
DTSTART:20100306T020000Z
DTEND:20100305T060000Z
X-MICROSOFT-CDO-ALLDAYEVENT:FALSE
SUMMARY:Patron of the Arts
DESCRIPTION:Martha Placeres\, violin\, with Richard Urbis & Robert Cruhm\, piano.\n\nAdmission: Free for members\, $10 for non-member adults\n                                                   \n$7 for children and senior citizens\n                                                   \n$5 for UTB/TSC students with valid I.D.
X-ALT-DESC;FMTTYPE=text/html:Martha Placeres\, violin\, with Richard Urbis & Robert Cruhm\, piano.\n\nAdmission: Free for members\, $10 for non-member adults\n                                                   \n$7 for children and senior citizens\n                                                   \n$5 for UTB/TSC students with valid I.D.\n\n\n
LOCATION:UTB/TSC main Campus-SETB Lecture Hall
UID:e.1828.2422
SEQUENCE:3
DTSTAMP:20260422T080936Z
URL:https://business.harlingen.com/events/details/patron-of-the-arts-03-05-2010-2422
END:VEVENT

END:VCALENDAR
