BEGIN:VCALENDAR
VERSION:2.0
PRODID:-//ChamberMaster//Event Calendar 2.0//EN
METHOD:PUBLISH
X-PUBLISHED-TTL:P3D
REFRESH-INTERVAL:P3D
CALSCALE:GREGORIAN
BEGIN:VEVENT
DTSTART:20100130T020000Z
DTEND:20100130T030000Z
X-MICROSOFT-CDO-ALLDAYEVENT:FALSE
SUMMARY:Patron of the Arts featuring Atlantic Brass Quintet
DESCRIPTION:Featuring the Atlantic Brass Quintet\, performing classical music\, jazz\, pop and Latin music.\n\nAdmission: Free for members\, $10 for non-member adults\n$7 for children and senior citizens\n$5 for UTB/TSC students with valid I.D.
X-ALT-DESC;FMTTYPE=text/html:Featuring the Atlantic Brass Quintet\, performing classical music\, jazz\, pop and Latin music.\n\nAdmission: Free for members\, $10 for non-member adults\n$7 for children and senior citizens\n$5 for UTB/TSC students with valid I.D.\n
LOCATION:UTB/TSC Main Campus-SETB Lecture Hall
UID:e.1828.2348
SEQUENCE:3
DTSTAMP:20260422T113014Z
URL:https://business.harlingen.com/events/details/patron-of-the-arts-featuring-atlantic-brass-quintet-01-29-2010-2348
END:VEVENT

END:VCALENDAR
