BEGIN:VCALENDAR
VERSION:2.0
PRODID:-//ChamberMaster//Event Calendar 2.0//EN
METHOD:PUBLISH
X-PUBLISHED-TTL:P3D
REFRESH-INTERVAL:P3D
CALSCALE:GREGORIAN
BEGIN:VEVENT
DTSTART:20100207T020000Z
DTEND:20100207T030000Z
X-MICROSOFT-CDO-ALLDAYEVENT:FALSE
SUMMARY:Patron of the Arts featuring Daniel Hunter-Holly\, Baritone and Jonathan Guist\, Clarinet
DESCRIPTION:Featuring Daniel Hunter-Holly\, Baritone and Jonathan Guist\, Clarinet\n\nAdmission: Free for members\, $10 for non-member adults\n$7 for children and senior citizens\n$5 for UTB/TSC students with valid I.D.
X-ALT-DESC;FMTTYPE=text/html:Featuring Daniel Hunter-Holly\, Baritone and Jonathan Guist\, Clarinet\n\nAdmission: Free for members\, $10 for non-member adults\n$7 for children and senior citizens\n$5 for UTB/TSC students with valid I.D.\n
LOCATION:UTB/TSC Main Campus-SETB Lecture Hall
UID:e.1828.2347
SEQUENCE:3
DTSTAMP:20260422T095223Z
URL:https://business.harlingen.com/events/details/patron-of-the-arts-featuring-daniel-hunter-holly-baritone-and-jonathan-guist-clarinet-02-06-2010-2347
END:VEVENT

END:VCALENDAR
