BEGIN:VCALENDAR
VERSION:2.0
PRODID:-//ChamberMaster//Event Calendar 2.0//EN
METHOD:PUBLISH
X-PUBLISHED-TTL:P3D
REFRESH-INTERVAL:P3D
CALSCALE:GREGORIAN
BEGIN:VEVENT
DTSTART:20100221T020000Z
DTEND:20100221T020000Z
X-MICROSOFT-CDO-ALLDAYEVENT:FALSE
SUMMARY:Patron of the Arts featuring I Madrigali\, Renasissance Ensemble (Guest of Houston)
DESCRIPTION:Admission: Free for members\, $10 for non-member adults\n                             $7 for children and senior citizens\n                             $5 for UTB/TSC students with valid I.D.\nFor more information: Call (956) 882-7025
X-ALT-DESC;FMTTYPE=text/html:Admission: Free for members\, $10 for non-member adults\n                             $7 for children and senior citizens\n                             $5 for UTB/TSC students with valid I.D.\nFor more information: Call (956) 882-7025\n
LOCATION:UTB/TSC main campus-SETB Lecture Hall
UID:e.1828.2368
SEQUENCE:3
DTSTAMP:20260422T095517Z
URL:https://business.harlingen.com/events/details/patron-of-the-arts-featuring-i-madrigali-renasissance-ensemble-guest-of-houston-02-20-2010-2368
END:VEVENT

END:VCALENDAR
