BEGIN:VCALENDAR
VERSION:2.0
PRODID:-//ChamberMaster//Event Calendar 2.0//EN
METHOD:PUBLISH
X-PUBLISHED-TTL:P3D
REFRESH-INTERVAL:P3D
CALSCALE:GREGORIAN
BEGIN:VEVENT
DTSTART:20111029T140000Z
DTEND:20111029T140000Z
X-MICROSOFT-CDO-ALLDAYEVENT:FALSE
SUMMARY:Pedal for Pets Costume Parade
DESCRIPTION:Sponsored by The Harlingen Humane Society \nBike riders 12 and under are encouraged to participate!\nWho: Bike riders 12 and under\nWhere: Meet at Jackson Street and 6th - downtown Harlingen \nWhen: Saturday\, October 29th - 9:00 a.m. check-in\nWhy: All proceeds help homeless pets in our community\, Prizes for best costume!  Bring puppy or kitten food for free raffle tickets! Register your kids on or before October 15th at Bicycle World in Harlingen (1113 S. 77Sunshine Strip) or the Humane Society of Harlingen (1106 Markowsky St.).  \nFor more information\, call the Humane Society:  425-7297.
X-ALT-DESC;FMTTYPE=text/html:Sponsored by The Harlingen Humane Society \nBike riders 12 and under are encouraged to participate!\nWho: Bike riders 12 and under\nWhere: Meet at Jackson Street and 6th - downtown Harlingen \nWhen: Saturday\, October 29th - 9:00 a.m. check-in\nWhy: All proceeds help homeless pets in our community\, Prizes for best costume!  Bring puppy or kitten food for free raffle tickets! Register your kids on or before October 15th at Bicycle World in Harlingen (1113 S. 77Sunshine Strip) or the Humane Society of Harlingen (1106 Markowsky St.).  \nFor more information\, call the Humane Society:  425-7297. \n
LOCATION:
UID:e.1828.3199
SEQUENCE:3
DTSTAMP:20260421T021133Z
URL:https://business.harlingen.com/events/details/pedal-for-pets-costume-parade-10-29-2011-3199
END:VEVENT

END:VCALENDAR
