BEGIN:VCALENDAR
VERSION:2.0
PRODID:-//ChamberMaster//Event Calendar 2.0//EN
METHOD:PUBLISH
X-PUBLISHED-TTL:P3D
REFRESH-INTERVAL:P3D
CALSCALE:GREGORIAN
BEGIN:VEVENT
DTSTART;VALUE=DATE:20120521
DTEND;VALUE=DATE:20120522
TRANSP:TRANSPARENT
X-MICROSOFT-CDO-ALLDAYEVENT:TRUE
SUMMARY:Photo Contest: "Contemporary Views of Historic Downtown Harlingen"
DESCRIPTION:Adults and children are invited to participate in a photo contest to celebrate National Preservation Month (May).  Entries should highlight Downtown Harlingen buildings\, streetscapes\, or architectural details.  There are four categories:  Ages 12   Ages 13-18\; Over 18 years of age\; Professional Photographers.  Photos will be judged by a panel of artists and photographers and will be displayed at D'Arte Centre\, 115 E. Jackson in Downtown Harlingen\, during the month of June.  Complete photo contest rules and entry forms are available at Downtown Harlingen businesses\, the Downtown Harlingen office\, and online at www.downtownharlingen.com.  Winners will be announced on June 7th.  For more information\, call the Harlingen Downtown office\, 216-4910.
X-ALT-DESC;FMTTYPE=text/html:Adults and children are invited to participate in a photo contest to celebrate National Preservation Month (May).  Entries should highlight Downtown Harlingen buildings\, streetscapes\, or architectural details.  There are four categories:  Ages 12 & under\; Ages 13-18\; Over 18 years of age\; Professional Photographers.  Photos will be judged by a panel of artists and photographers and will be displayed at D'Arte Centre\, 115 E. Jackson in Downtown Harlingen\, during the month of June.  Complete photo contest rules and entry forms are available at Downtown Harlingen businesses\, the Downtown Harlingen office\, and online at www.downtownharlingen.com.  Winners will be announced on June 7th.  For more information\, call the Harlingen Downtown office\, 216-4910.\n
LOCATION:
UID:e.1828.3683
SEQUENCE:3
DTSTAMP:20260420T164054Z
URL:https://business.harlingen.com/events/details/photo-contest-contemporary-views-of-historic-downtown-harlingen-05-21-2012-3683
END:VEVENT

END:VCALENDAR
