BEGIN:VCALENDAR
VERSION:2.0
PRODID:-//ChamberMaster//Event Calendar 2.0//EN
METHOD:PUBLISH
X-PUBLISHED-TTL:P3D
REFRESH-INTERVAL:P3D
CALSCALE:GREGORIAN
BEGIN:VEVENT
DTSTART:20090829T180000Z
DTEND:20090829T180000Z
X-MICROSOFT-CDO-ALLDAYEVENT:FALSE
SUMMARY:Pirates of the Caribbean Day at the Children's Museum of Brownsville
DESCRIPTION:Ahoy Matey!  Saturday\, August 29\, 2009 is ''Pirates of the Caribbean Day'' at the Children's Museum of Brownsville!  Young guests will feel like a real pirate with a complimentary eye patch\, treasure hunt\, and fun pirate games and activities.  At 1:00p.m. learn facts about the Caribbean Sea and meet our special international guest from Trinidad & Tobago.  At 2:00p.m. join ''Ruby the Pirate Queen'' for her fantastic Pirate Show and amazing face painting.  Plus\, enter to win free tickets to Black Dragon Cruises at South Padre Island!  Argghhh!\n\nFor more information on upcoming programs or activities please visit www.cmofbrownsville.com or call (956) 548-9300.  Admission is $5 for adults and children\, 12 months and under\, FREE.
X-ALT-DESC;FMTTYPE=text/html:Ahoy Matey!  Saturday\, August 29\, 2009 is ''Pirates of the Caribbean Day'' at the Children's Museum of Brownsville!  Young guests will feel like a real pirate with a complimentary eye patch\, treasure hunt\, and fun pirate games and activities.  At 1:00p.m. learn facts about the Caribbean Sea and meet our special international guest from Trinidad & Tobago.  At 2:00p.m. join ''Ruby the Pirate Queen'' for her fantastic Pirate Show and amazing face painting.  Plus\, enter to win free tickets to Black Dragon Cruises at South Padre Island!  Argghhh!\n\nFor more information on upcoming programs or activities please visit www.cmofbrownsville.com or call (956) 548-9300.  Admission is $5 for adults and children\, 12 months and under\, FREE.\n
LOCATION:
UID:e.1828.2024
SEQUENCE:3
DTSTAMP:20260422T081421Z
URL:https://business.harlingen.com/events/details/pirates-of-the-caribbean-day-at-the-children-s-museum-of-brownsville-08-29-2009-2024
END:VEVENT

END:VCALENDAR
