BEGIN:VCALENDAR
VERSION:2.0
PRODID:-//ChamberMaster//Event Calendar 2.0//EN
METHOD:PUBLISH
X-PUBLISHED-TTL:P3D
REFRESH-INTERVAL:P3D
CALSCALE:GREGORIAN
BEGIN:VEVENT
DTSTART:20090814T000000Z
DTEND:20090814T000000Z
X-MICROSOFT-CDO-ALLDAYEVENT:FALSE
SUMMARY:"Pirates! The Musical!"
DESCRIPTION:"Pirates!  The Musical" will be presented by the Harlingen Performing Arts Theatre 2009 Summer Youth Workshop on Thursday\, August 13th at 7:00 pm at Wesley United Methodist Church Fellowship Hall located at 1406 E. Austin.  Adults $5 and Children $2.
X-ALT-DESC;FMTTYPE=text/html:"Pirates!  The Musical" will be presented by the Harlingen Performing Arts Theatre 2009 Summer Youth Workshop on Thursday\, August 13th at 7:00 pm at Wesley United Methodist Church Fellowship Hall located at 1406 E. Austin.  Adults $5 and Children $2. \n
LOCATION:Wesley United Methodist Church
UID:e.1828.2006
SEQUENCE:3
DTSTAMP:20260422T080702Z
URL:https://business.harlingen.com/events/details/pirates-the-musical-08-13-2009-2006
END:VEVENT

END:VCALENDAR
