BEGIN:VCALENDAR
VERSION:2.0
PRODID:-//ChamberMaster//Event Calendar 2.0//EN
METHOD:PUBLISH
X-PUBLISHED-TTL:P3D
REFRESH-INTERVAL:P3D
CALSCALE:GREGORIAN
BEGIN:VEVENT
DTSTART;VALUE=DATE:20111105
DTEND;VALUE=DATE:20111212
TRANSP:TRANSPARENT
X-MICROSOFT-CDO-ALLDAYEVENT:TRUE
SUMMARY:Planned Parenthood presents "Love y Familia" Opening Gala
DESCRIPTION:Planned Parenthood presents "Love y Familia" opening gala. A group exhibition and gala party at the Harlingen Arts & Heritage Museum.  Art will be on view from November 5 - December 11. Artists working in all mediums are encouraged to submit work which explores the "Love y Familia" theme.  Best in show prize will be awarded $500.00\n\nFor official rules and entry form please visit: www.pptrust.org\n\nWe recognize the importance of art as an integral element of community-a source of inspiration and a reminder of humanity's potential for greatness. \n\nExhibition Juror: Mark Clark\, Galeria 409\, contact Angela for tickets and sponsorship information or visit angela.koester@pptrust.org  phone (210) 736-2244 ext. 317  ENTRY DEADLINE OCTOBER 1\, 2011
X-ALT-DESC;FMTTYPE=text/html:Planned Parenthood presents "Love y Familia" opening gala. A group exhibition and gala party at the Harlingen Arts & Heritage Museum.  Art will be on view from November 5 - December 11. Artists working in all mediums are encouraged to submit work which explores the "Love y Familia" theme.  Best in show prize will be awarded $500.00\n\nFor official rules and entry form please visit: www.pptrust.org\n\nWe recognize the importance of art as an integral element of community-a source of inspiration and a reminder of humanity's potential for greatness. \n\nExhibition Juror: Mark Clark\, Galeria 409\, contact Angela for tickets and sponsorship information or visit angela.koester@pptrust.org  phone (210) 736-2244 ext. 317  ENTRY DEADLINE OCTOBER 1\, 2011\n
LOCATION:
UID:e.1828.3160
SEQUENCE:3
DTSTAMP:20260420T225716Z
URL:https://business.harlingen.com/events/details/planned-parenthood-presents-love-y-familia-opening-gala-11-05-2011-3160
END:VEVENT

END:VCALENDAR
