BEGIN:VCALENDAR
VERSION:2.0
PRODID:-//ChamberMaster//Event Calendar 2.0//EN
METHOD:PUBLISH
X-PUBLISHED-TTL:P3D
REFRESH-INTERVAL:P3D
CALSCALE:GREGORIAN
BEGIN:VEVENT
DTSTART:20110215T000000Z
DTEND:20110215T013000Z
X-MICROSOFT-CDO-ALLDAYEVENT:FALSE
SUMMARY:Poetry and Free Coffee Night (Open Mic)
DESCRIPTION:All ages and levels of talent are welcome! The event will be on Monday\, February 14\, from 6:00 pm to 7:30 pm in the Auditorium Room. Sign-up is at the reference desk or call Administration at 956-216-5801. Please remember that this is a public performance and neither profanity or vulgar gestures will be allowed during the presentations.
X-ALT-DESC;FMTTYPE=text/html:All ages and levels of talent are welcome! The event will be on Monday\, February 14\, from 6:00 pm to 7:30 pm in the Auditorium Room. Sign-up is at the reference desk or call Administration at 956-216-5801. Please remember that this is a public performance and neither profanity or vulgar gestures will be allowed during the presentations. \n\n
LOCATION:Harlingen Public Library 410 '76 Drive Harlingen\, Texas 78550
UID:e.1828.3204
SEQUENCE:3
DTSTAMP:20260421T142422Z
URL:https://business.harlingen.com/events/details/poetry-and-free-coffee-night-open-mic-02-14-2011-3204
END:VEVENT

END:VCALENDAR
