BEGIN:VCALENDAR
VERSION:2.0
PRODID:-//ChamberMaster//Event Calendar 2.0//EN
METHOD:PUBLISH
X-PUBLISHED-TTL:P3D
REFRESH-INTERVAL:P3D
CALSCALE:GREGORIAN
BEGIN:VEVENT
DTSTART:20110324T223000Z
DTEND:20110324T223000Z
X-MICROSOFT-CDO-ALLDAYEVENT:FALSE
SUMMARY:Port of Harlingen Authority Reception
DESCRIPTION:You are cordially invited to a reception welcoming the new Manager of Port Development and incoming Port Director-Port of Harlingen Authroity\, Michael Perez. Must RSVP please call 956-423-5440 or email kwolf@harlingen.com.
X-ALT-DESC;FMTTYPE=text/html:You are cordially invited to a reception welcoming the new Manager of Port Development and incoming Port Director-Port of Harlingen Authroity\, Michael Perez. Must RSVP please call 956-423-5440 or email kwolf@harlingen.com.\n
LOCATION:
UID:e.1828.2997
SEQUENCE:3
DTSTAMP:20260421T124620Z
URL:https://business.harlingen.com/events/details/port-of-harlingen-authority-reception-03-24-2011-2997
END:VEVENT

END:VCALENDAR
