BEGIN:VCALENDAR
VERSION:2.0
PRODID:-//ChamberMaster//Event Calendar 2.0//EN
METHOD:PUBLISH
X-PUBLISHED-TTL:P3D
REFRESH-INTERVAL:P3D
CALSCALE:GREGORIAN
BEGIN:VEVENT
DTSTART:20121013T230000Z
DTEND:20121013T230000Z
X-MICROSOFT-CDO-ALLDAYEVENT:FALSE
SUMMARY:Praise on the Hill
DESCRIPTION:For more information call #216-5951 or visit www.praiseonthehill.com
X-ALT-DESC;FMTTYPE=text/html:For more information call #216-5951 or visit www.praiseonthehill.com
LOCATION:
UID:e.1828.3987
SEQUENCE:3
DTSTAMP:20260420T085410Z
URL:https://business.harlingen.com/events/details/praise-on-the-hill-10-13-2012-3987
END:VEVENT

END:VCALENDAR
