BEGIN:VCALENDAR
VERSION:2.0
PRODID:-//ChamberMaster//Event Calendar 2.0//EN
METHOD:PUBLISH
X-PUBLISHED-TTL:P3D
REFRESH-INTERVAL:P3D
CALSCALE:GREGORIAN
BEGIN:VEVENT
DTSTART:20111209T000000Z
DTEND:20111209T020000Z
X-MICROSOFT-CDO-ALLDAYEVENT:FALSE
SUMMARY:Premier Laser & Aesthetics Holiday Open House
DESCRIPTION:Complimentary treatments\, hors d'oeuvres\, gifts\, and drawings. More info to come!
X-ALT-DESC;FMTTYPE=text/html:Complimentary treatments\, hors d'oeuvres\, gifts\, and drawings. More info to come!\n
LOCATION:
UID:e.1828.3279
SEQUENCE:3
DTSTAMP:20260420T230308Z
URL:https://business.harlingen.com/events/details/premier-laser-aesthetics-holiday-open-house-12-08-2011-3279
END:VEVENT

END:VCALENDAR
