BEGIN:VCALENDAR
VERSION:2.0
PRODID:-//ChamberMaster//Event Calendar 2.0//EN
METHOD:PUBLISH
X-PUBLISHED-TTL:P3D
REFRESH-INTERVAL:P3D
CALSCALE:GREGORIAN
BEGIN:VEVENT
DTSTART:20110721T223000Z
DTEND:20110721T223000Z
X-MICROSOFT-CDO-ALLDAYEVENT:FALSE
SUMMARY:Premier Laser & Aesthetics Open House/Mixer
DESCRIPTION:Premier Laser & Aesthetics has been in business for over a year and is celebrating by hosting a mixer. They offer the latest in Medical Aesthetics with quality and effective services at affordable pricing.
X-ALT-DESC;FMTTYPE=text/html:Premier Laser & Aesthetics has been in business for over a year and is celebrating by hosting a mixer. They offer the latest in Medical Aesthetics with quality and effective services at affordable pricing. \n
LOCATION:
UID:e.1828.3105
SEQUENCE:3
DTSTAMP:20260421T064046Z
URL:https://business.harlingen.com/events/details/premier-laser-aesthetics-open-house-mixer-07-21-2011-3105
END:VEVENT

END:VCALENDAR
