BEGIN:VCALENDAR
VERSION:2.0
PRODID:-//ChamberMaster//Event Calendar 2.0//EN
METHOD:PUBLISH
X-PUBLISHED-TTL:P3D
REFRESH-INTERVAL:P3D
CALSCALE:GREGORIAN
BEGIN:VEVENT
DTSTART:20121110T000000Z
DTEND:20121110T020000Z
X-MICROSOFT-CDO-ALLDAYEVENT:FALSE
SUMMARY:Premier Laser & Aesthetics & Stephanies Apres Vu Hair Designs presents a "Pamper Me Please" Event
DESCRIPTION:Always wondered about a medspa and what they offer?  Now is your chance to find out!  Bring your girlfriends for a budget friendly pampering experience featuring:\n-Upper lip laser hair reduction\n-microdermabrasion\n-1 syringe of sclerotherapy for spider veins\n-eyebrow waxing by Stephanie's\n\nServices only $10 each the night of the event.  Free hair\, skin\, and makeup consultations!  For more information\, call (956) 412-FACE (3223).
X-ALT-DESC;FMTTYPE=text/html:Always wondered about a medspa and what they offer?  Now is your chance to find out!  Bring your girlfriends for a budget friendly pampering experience featuring:\n-Upper lip laser hair reduction\n-microdermabrasion\n-1 syringe of sclerotherapy for spider veins\n-eyebrow waxing by Stephanie's\n\nServices only $10 each the night of the event.  Free hair\, skin\, and makeup consultations!  For more information\, call (956) 412-FACE (3223). \n
LOCATION:
UID:e.1828.4116
SEQUENCE:3
DTSTAMP:20260420T090210Z
URL:https://business.harlingen.com/events/details/premier-laser-aesthetics-stephanies-apres-vu-hair-designs-presents-a-pamper-me-please-event-11-09-2012-4116
END:VEVENT

END:VCALENDAR
