BEGIN:VCALENDAR
VERSION:2.0
PRODID:-//ChamberMaster//Event Calendar 2.0//EN
METHOD:PUBLISH
X-PUBLISHED-TTL:P3D
REFRESH-INTERVAL:P3D
CALSCALE:GREGORIAN
BEGIN:VEVENT
DTSTART:20120710T153000Z
DTEND:20120710T153000Z
X-MICROSOFT-CDO-ALLDAYEVENT:FALSE
SUMMARY:Premier Nationwide Lending Ribbon Cutting
DESCRIPTION:Please join us as we celebrate our "new look" with a ribbon cutting and refreshments!
X-ALT-DESC;FMTTYPE=text/html:Please join us as we celebrate our "new look" with a ribbon cutting and refreshments! \n
LOCATION:
UID:e.1828.3855
SEQUENCE:3
DTSTAMP:20260420T115350Z
URL:https://business.harlingen.com/events/details/premier-nationwide-lending-ribbon-cutting-07-10-2012-3855
END:VEVENT

END:VCALENDAR
