BEGIN:VCALENDAR
VERSION:2.0
PRODID:-//ChamberMaster//Event Calendar 2.0//EN
METHOD:PUBLISH
X-PUBLISHED-TTL:P3D
REFRESH-INTERVAL:P3D
CALSCALE:GREGORIAN
BEGIN:VEVENT
DTSTART:20100814T000000Z
DTEND:20100813T050000Z
X-MICROSOFT-CDO-ALLDAYEVENT:FALSE
SUMMARY:Premiere of "Secrets of the Chaparral"\, documentary
DESCRIPTION:The documentary\, Secrets of the Chaparral\, focuses on native plants of South Texas with an emphasis on the historic food and medicinal uses.
X-ALT-DESC;FMTTYPE=text/html:The documentary\, Secrets of the Chaparral\, focuses on native plants of South Texas with an emphasis on the historic food and medicinal uses.
LOCATION:UTB/TSC\, main campus-SETB Lecture Hall
UID:e.1828.2587
SEQUENCE:3
DTSTAMP:20260422T001950Z
URL:https://business.harlingen.com/events/details/premiere-of-secrets-of-the-chaparral-documentary-08-13-2010-2587
END:VEVENT

END:VCALENDAR
