BEGIN:VCALENDAR
VERSION:2.0
PRODID:-//ChamberMaster//Event Calendar 2.0//EN
METHOD:PUBLISH
X-PUBLISHED-TTL:P3D
REFRESH-INTERVAL:P3D
CALSCALE:GREGORIAN
BEGIN:VEVENT
DTSTART:20101014T223000Z
DTEND:20101015T003000Z
X-MICROSOFT-CDO-ALLDAYEVENT:FALSE
SUMMARY:Pressed On Time Ribbon Cutting & Business After Hours Mixer
DESCRIPTION:You are invited you to a Ribbon Cutting & Business After Hours Mixer celebrating the opening of Pressed On Time Ironing Service!  Pressed On Time\, Harlingen's first exclusive ironing service\, opens on October 1st!  Bring your laundered clothing to Pressed On Time and get your wrinkles ironed out for only $1.50 per clothing item -  $1.25 for scrubs and children's school uniforms.  A Great Networking Event! Don't forget to bring your business cards!  For more information please call (956) 428-4766
X-ALT-DESC;FMTTYPE=text/html:You are invited you to a Ribbon Cutting & Business After Hours Mixer celebrating the opening of Pressed On Time Ironing Service!  Pressed On Time\, Harlingen's first exclusive ironing service\, opens on October 1st!  Bring your laundered clothing to Pressed On Time and get your wrinkles ironed out for only $1.50 per clothing item -  $1.25 for scrubs and children's school uniforms.  A Great Networking Event! Don't forget to bring your business cards!  For more information please call (956) 428-4766\n \n
LOCATION:
UID:e.1828.2779
SEQUENCE:3
DTSTAMP:20260421T203824Z
URL:https://business.harlingen.com/events/details/pressed-on-time-ribbon-cutting-business-after-hours-mixer-10-14-2010-2779
END:VEVENT

END:VCALENDAR
