BEGIN:VCALENDAR
VERSION:2.0
PRODID:-//ChamberMaster//Event Calendar 2.0//EN
METHOD:PUBLISH
X-PUBLISHED-TTL:P3D
REFRESH-INTERVAL:P3D
CALSCALE:GREGORIAN
BEGIN:VEVENT
DTSTART;VALUE=DATE:20120213
DTEND;VALUE=DATE:20120217
TRANSP:TRANSPARENT
X-MICROSOFT-CDO-ALLDAYEVENT:TRUE
SUMMARY:Pretty at Prom
DESCRIPTION:Prom attire donations are being accepted. The Harlingen Area Teacher's Credit Union\, the Valley Morning Star and Valle Vista Mall are accepting donations of prom attire for hign school seniors. The following new or gently used items are needed: formal gowns\, shoes\, tuxedos\, corsages and boutonnieres\, accessories\, limo services\, restaurants\, gift cards and beauty professionals or hair and makeups.\n\nPretty at Prom benefits schools districts in Harlingen\, San Benito\, Rio Hondo\, La Feria\, Santa Rosa and South Texas ISD. \nDeadline\, for donations is March 16th. For more information call HATCU 956-423-5792 or the Valley Morning Star at 956-430-6256.
X-ALT-DESC;FMTTYPE=text/html:Prom attire donations are being accepted. The Harlingen Area Teacher's Credit Union\, the Valley Morning Star and Valle Vista Mall are accepting donations of prom attire for hign school seniors. The following new or gently used items are needed: formal gowns\, shoes\, tuxedos\, corsages and boutonnieres\, accessories\, limo services\, restaurants\, gift cards and beauty professionals or hair and makeups.\n\nPretty at Prom benefits schools districts in Harlingen\, San Benito\, Rio Hondo\, La Feria\, Santa Rosa and South Texas ISD. \nDeadline\, for donations is March 16th. For more information call HATCU 956-423-5792 or the Valley Morning Star at 956-430-6256.
LOCATION:Drop off locations at any Area Teacher's Credit Union are Harlingen\, San Benito\, Valley Morning Star\, or Valle Vista Mall.
UID:e.1828.3428
SEQUENCE:3
DTSTAMP:20260420T211447Z
URL:https://business.harlingen.com/events/details/pretty-at-prom-02-13-2012-3428
END:VEVENT

END:VCALENDAR
