BEGIN:VCALENDAR
VERSION:2.0
PRODID:-//ChamberMaster//Event Calendar 2.0//EN
METHOD:PUBLISH
X-PUBLISHED-TTL:P3D
REFRESH-INTERVAL:P3D
CALSCALE:GREGORIAN
BEGIN:VEVENT
DTSTART;VALUE=DATE:20120314
DTEND;VALUE=DATE:20120317
TRANSP:TRANSPARENT
X-MICROSOFT-CDO-ALLDAYEVENT:TRUE
SUMMARY:Pretty at Prom
DESCRIPTION:Harlingen Area Teachers' Credit Union\, the Valley Morning Star and Valle Vista Mall are accepting donations of prom attire for high school seniors in Harlingen\, San Benito\, Rio Hondo\, La Feria\, Santa Rosa and South Texas ISD. New or gently used items needed are: formal gowns\; shoes\; tuxedos\; corsages and boutonnieres\; accessories\; limo services\; restaurant gift cards\; and beauty professionals for hair and makeup. \nDrop off donations by March 16th at any Harlingen Area Teachers' Credit Union\, Valley Morning Star or Valle Vista Mall.  For information\, call HATCU at 423-5792 or VMS at 430-6256.
X-ALT-DESC;FMTTYPE=text/html:Harlingen Area Teachers' Credit Union\, the Valley Morning Star and Valle Vista Mall are accepting donations of prom attire for high school seniors in Harlingen\, San Benito\, Rio Hondo\, La Feria\, Santa Rosa and South Texas ISD. New or gently used items needed are: formal gowns\; shoes\; tuxedos\; corsages and boutonnieres\; accessories\; limo services\; restaurant gift cards\; and beauty professionals for hair and makeup. \nDrop off donations by March 16th at any Harlingen Area Teachers' Credit Union\, Valley Morning Star or Valle Vista Mall.  For information\, call HATCU at 423-5792 or VMS at 430-6256.\n
LOCATION:
UID:e.1828.3491
SEQUENCE:3
DTSTAMP:20260420T194757Z
URL:https://business.harlingen.com/events/details/pretty-at-prom-03-14-2012-3491
END:VEVENT

END:VCALENDAR
