BEGIN:VCALENDAR
VERSION:2.0
PRODID:-//ChamberMaster//Event Calendar 2.0//EN
METHOD:PUBLISH
X-PUBLISHED-TTL:P3D
REFRESH-INTERVAL:P3D
CALSCALE:GREGORIAN
BEGIN:VEVENT
DTSTART:20091208T160000Z
DTEND:20091208T160000Z
X-MICROSOFT-CDO-ALLDAYEVENT:FALSE
SUMMARY:Pretty Paws Salon & Spa Ribbon Cutting
DESCRIPTION:The Harlingen business community is on the move!  Please join us in congratulating this new business that will be hosting a ribbon cutting event.\n         \n\n        \n    \n    \n        Pretty Paws Salon & Spa \n        \n\n        Tuesday\, December 8 at 10:00 am\n\n        604 S. 77 Sunshine Strip\, Ste. A-1\,  Harlingen (956) 423-7297 \n\n        \n\n        Join the Harlingen Area Chamber Ambassadors and owner Christine Morris as we celebrate the opening of Pretty Paws Salon & Spa with a Ribbon Cutting ceremony. \n\n        \n\n        Christine (Chris) Morris learned to groom and gained years of experience at a local veterinary clinic that she managed for 12 1/2 years. Now\, on her own\, she is utilizing the skills and knowledge she has acquired over the years to open Pretty Paws Salon & Spa.  She offers full service\, all breed\n        pet grooming ranging in many species such as dogs\, cats\, ferrets\, and rabbits with spa treatments as hydrotherapy bubble baths\, facials\, exfoliation\, hot oil treatments and massages. She also offers in home pet sitting and cage free daycare services.  Pretty Paws sells a wide variety of spa products\, collars\, leashes\, holiday speciality items\, dog foods and flea/ticks products. Visit her store today.
X-ALT-DESC;FMTTYPE=text/html:<html xmlns:o= "urn:schemas-microsoft-com:office:office">\n<head>\n</head>\n<body>\n    <p>\n        <span style="FONT-SIZE: 10pt\; COLOR: #857458\; FONT-FAMILY: 'Arial'\,'sans-serif'">The Harlingen business community is on the move!&nbsp\; Please join us in congratulating&nbsp\;this new business that will be hosting a ribbon cutting event.<o:p></o:p>\n        &nbsp\;<br />\n        </span><strong><span style="FONT-SIZE: 18pt\; COLOR: #990000\; FONT-FAMILY: 'Arial Narrow'\,'sans-serif'\; mso-bidi-font-family: Arial"></span></strong>\n    </p>\n    <p>\n        <strong><span style="FONT-SIZE: 18pt\; COLOR: #990000\; FONT-FAMILY: 'Arial Narrow'\,'sans-serif'\; mso-bidi-font-family: Arial">Pretty Paws Salon &amp\; Spa \n        <br />\n        </span></strong><b><span style="FONT-SIZE: 10pt\; COLOR: black\; FONT-FAMILY: 'Arial'\,'sans-serif'">Tuesday\, December 8 at 10:00 am<br />\n        </span></b><strong><span style="FONT-SIZE: 10pt\; COLOR: black\; FONT-FAMILY: 'Arial'\,'sans-serif'">604 S. 77 Sunshine&nbsp\;Strip\, Ste. A-1\, &nbsp\;Harlingen (956) 423-7297</span></strong><span style="FONT-SIZE: 10pt\; COLOR: black\; FONT-FAMILY: 'Arial'\,'sans-serif'">&nbsp\;<br />\n        <br />\n        </span><span style="FONT-SIZE: 10pt\; COLOR: black\; FONT-FAMILY: 'Arial'\,'sans-serif'">Join the Harlingen Area Chamber Ambassadors and owner Christine Morris as we celebrate the opening of Pretty Paws Salon &amp\; Spa&nbsp\;with a <em><b><span style="FONT-FAMILY: 'Arial'\,'sans-serif'">Ribbon Cutting ceremony</span></b></em>.&nbsp\;<br />\n        <br />\n        </span><span style="FONT-SIZE: 10pt\; COLOR: black\; FONT-FAMILY: 'Arial'\,'sans-serif'\; mso-fareast-font-family: 'Times New Roman'\; mso-ansi-language: EN-US\; mso-fareast-language: EN-US\; mso-bidi-language: AR-SA">Christine (Chris) Morris learned to groom and gained years of experience at a local veterinary clinic that she managed for 12 1/2 years. Now\, on her own\, she is utilizing the skills and knowledge she has acquired over the years to open Pretty Paws Salon &amp\; Spa.&nbsp\; She offers full service\, all breed\n        pet grooming ranging in many species such as dogs\, cats\, ferrets\, and rabbits with spa treatments as hydrotherapy bubble baths\, facials\, exfoliation\, hot oil treatments and massages. She also offers in home pet sitting and cage free daycare services.&nbsp\;&nbsp\;Pretty Paws sells a wide variety of&nbsp\;spa&nbsp\;products\, collars\, leashes\, holiday speciality items\, dog foods and flea/ticks products. Visit her store today.&nbsp\;&nbsp\;</span>\n    </p>\n</body>\n</html>\n
LOCATION:
UID:e.1828.2250
SEQUENCE:3
DTSTAMP:20260422T130144Z
URL:https://business.harlingen.com/events/details/pretty-paws-salon-spa-ribbon-cutting-12-08-2009-2250
END:VEVENT

END:VCALENDAR
