BEGIN:VCALENDAR
VERSION:2.0
PRODID:-//ChamberMaster//Event Calendar 2.0//EN
METHOD:PUBLISH
X-PUBLISHED-TTL:P3D
REFRESH-INTERVAL:P3D
CALSCALE:GREGORIAN
BEGIN:VEVENT
DTSTART:20100408T140000Z
DTEND:20100408T170000Z
X-MICROSOFT-CDO-ALLDAYEVENT:FALSE
SUMMARY:Primary Certifications Brownsville
DESCRIPTION:Did you know that becoming a ''certified'' WBE\, MBE or DBE in Texas may provide you with a competitive edge in securing contracts with government? At this seminar you will learn about the benefits as well as the differences between the primary state certification processes. Ample time will be available for questions and networking. Partnering organizations will have staff members and material available to inform attendees.
X-ALT-DESC;FMTTYPE=text/html:Did you know that becoming a ''certified'' WBE\, MBE or DBE in Texas may provide you with a competitive edge in securing contracts with government? At this seminar you will learn about the benefits as well as the differences between the primary state certification processes. Ample time will be available for questions and networking. Partnering organizations will have staff members and material available to inform attendees. 
LOCATION:Brownsville Chamber of Commerce
UID:e.1828.2482
SEQUENCE:3
DTSTAMP:20260422T061357Z
URL:https://business.harlingen.com/events/details/primary-certifications-brownsville-04-08-2010-2482
END:VEVENT

END:VCALENDAR
