BEGIN:VCALENDAR
VERSION:2.0
PRODID:-//ChamberMaster//Event Calendar 2.0//EN
METHOD:PUBLISH
X-PUBLISHED-TTL:P3D
REFRESH-INTERVAL:P3D
CALSCALE:GREGORIAN
BEGIN:VEVENT
DTSTART:20100407T180000Z
DTEND:20100407T220000Z
X-MICROSOFT-CDO-ALLDAYEVENT:FALSE
SUMMARY:''Primary Certifications State HUB and Corporate Opportunities'' Presentation
DESCRIPTION:The Rio South Texas PTAC\, in partnership with the UTPA Small Business Development Center\, would like to invite you to our ''Primary Certifications State HUB and Corporate Opportunities'' presentation on April 7th\, 2010 at the UTPA Annex building. This presentation includes opportunities with local resource partners as well as valuable information that could benefit you. The event will take place from 1pm to 5pm. For more information\, or to RSVP\, please call (956) 292-7535.
X-ALT-DESC;FMTTYPE=text/html:The Rio South Texas PTAC\, in partnership with the UTPA Small Business Development Center\, would like to invite you to our ''Primary Certifications State HUB and Corporate Opportunities'' presentation on April 7th\, 2010 at the UTPA Annex building. This presentation includes opportunities with local resource partners as well as valuable information that could benefit you. The event will take place from 1pm to 5pm. For more information\, or to RSVP\, please call (956) 292-7535.
LOCATION:
UID:e.1828.2476
SEQUENCE:3
DTSTAMP:20260422T061532Z
URL:https://business.harlingen.com/events/details/primary-certifications-state-hub-and-corporate-opportunities-presentation-04-07-2010-2476
END:VEVENT

END:VCALENDAR
