BEGIN:VCALENDAR
VERSION:2.0
PRODID:-//ChamberMaster//Event Calendar 2.0//EN
METHOD:PUBLISH
X-PUBLISHED-TTL:P3D
REFRESH-INTERVAL:P3D
CALSCALE:GREGORIAN
BEGIN:VEVENT
DTSTART:20091110T200000Z
DTEND:20091110T220000Z
X-MICROSOFT-CDO-ALLDAYEVENT:FALSE
SUMMARY:Procurement for Veterans FREE Seminar
DESCRIPTION:Make plans to attend a seminar designed especially for VETERANS\, SERVICE DISABLED VETERANS\, RESERVISTS\, AND ACTIVE DUTY MEMBERS.  Topics will inculde business counseling services\, financing options\, selling to the government\, and SBA programs.  FEATURING THE VETERANS BUSINESS OUTREACH CENTER\nIN PARTNERSIP WITH RIO SOUTH TEXAS REGIONAL PROCUREMENT TECHNICAL ASSISTANCE CENTER\, SMALL BUSINESS DEVELOPMENT CENTER & U.S. SMALL BUSINESS ADMINISTRATION.  RSVP TODAY AT 956-423-5440!
X-ALT-DESC;FMTTYPE=text/html:Make plans to attend a seminar designed especially for VETERANS\, SERVICE DISABLED VETERANS\, RESERVISTS\, AND ACTIVE DUTY MEMBERS.  Topics will inculde business counseling services\, financing options\, selling to the government\, and SBA programs.  FEATURING THE VETERANS BUSINESS OUTREACH CENTER\nIN PARTNERSIP WITH RIO SOUTH TEXAS REGIONAL PROCUREMENT TECHNICAL ASSISTANCE CENTER\, SMALL BUSINESS DEVELOPMENT CENTER & U.S. SMALL BUSINESS ADMINISTRATION.  RSVP TODAY AT 956-423-5440!
LOCATION:
UID:e.1828.2179
SEQUENCE:3
DTSTAMP:20260422T125928Z
URL:https://business.harlingen.com/events/details/procurement-for-veterans-free-seminar-11-10-2009-2179
END:VEVENT

END:VCALENDAR
