BEGIN:VCALENDAR
VERSION:2.0
PRODID:-//ChamberMaster//Event Calendar 2.0//EN
METHOD:PUBLISH
X-PUBLISHED-TTL:P3D
REFRESH-INTERVAL:P3D
CALSCALE:GREGORIAN
BEGIN:VEVENT
DTSTART:20100325T190000Z
DTEND:20100325T210000Z
X-MICROSOFT-CDO-ALLDAYEVENT:FALSE
SUMMARY:''Procurement For Veterans'' Seminar
DESCRIPTION:On behalf of the Rio South Texas PTAC and the Veterans Business Outreach Center\, we would like to invite you to our FREE ''Procurement For Veterans'' presentation on March 25th\, 2010 from 2 to 4 pm at the UTPA Annex Building. This is a free seminar designed especially for veterans\, service disabled veterans\, reservists\, and active duty members on business counseling services\, financing options and how to sell to the government.\nTo RSVP please feel free to call\, (956)292-7542 (PTAC) or (956)2927554 (VBOC).
X-ALT-DESC;FMTTYPE=text/html:On behalf of the Rio South Texas PTAC and the Veterans Business Outreach Center\, we would like to invite you to our FREE ''Procurement For Veterans'' presentation on March 25th\, 2010 from 2 to 4 pm at the UTPA Annex Building. This is a free seminar designed especially for veterans\, service disabled veterans\, reservists\, and active duty members on business counseling services\, financing options and how to sell to the government.\nTo RSVP please feel free to call\, (956)292-7542 (PTAC) or (956)2927554 (VBOC).\n
LOCATION:
UID:e.1828.2463
SEQUENCE:3
DTSTAMP:20260422T080702Z
URL:https://business.harlingen.com/events/details/procurement-for-veterans-seminar-03-25-2010-2463
END:VEVENT

END:VCALENDAR
