BEGIN:VCALENDAR
VERSION:2.0
PRODID:-//ChamberMaster//Event Calendar 2.0//EN
METHOD:PUBLISH
X-PUBLISHED-TTL:P3D
REFRESH-INTERVAL:P3D
CALSCALE:GREGORIAN
BEGIN:VEVENT
DTSTART:20091110T200000Z
DTEND:20091110T220000Z
X-MICROSOFT-CDO-ALLDAYEVENT:FALSE
SUMMARY:''Procurement for Veterans'' Workshop/Seminar
DESCRIPTION:Are you a Veteran interested in learning how to sell your product or service to the U.S. Government?   \n\nA ''Procurement for Veterans'' workshop will be held on November 10 from 2 to 4 pm at the Harlingen Area Chamber of Commerce\, located at 311 E Tyler in Harlingen.  \n\nThe workshop is sponsored by the Veterans Business Outreach Center (VBOC)\, the Rio South Texas Regional Procurement Technical Assistance Center (PTAC)\, and the Small Business Development Center (SBDC) at The University of Texas-Pan American.  The three programs at UTPA provide business development services to the Rio Grande Valley business community.\n\nVBOC Director Alonzo Gracia encourages interested Veterans to attend the workshop and learn how government contracting really works. ''Government contracting is one way for Veteran-owned businesses to expand and further establish themselves in the marketplace\,'' he adds.  \n\nIn addition to information on selling to the government\, a business development specialist from the U.S. Small Business Administration will be present to discuss the agency's programs available for Veterans. \n\nTo register for this seminar\, please contact the Harlingen Area Chamber of Commerce at (956) 423-5440.
X-ALT-DESC;FMTTYPE=text/html:Are you a Veteran interested in learning how to sell your product or service to the U.S. Government?   \n\nA ''Procurement for Veterans'' workshop will be held on November 10 from 2 to 4 pm at the Harlingen Area Chamber of Commerce\, located at 311 E Tyler in Harlingen.  \n\nThe workshop is sponsored by the Veterans Business Outreach Center (VBOC)\, the Rio South Texas Regional Procurement Technical Assistance Center (PTAC)\, and the Small Business Development Center (SBDC) at The University of Texas-Pan American.  The three programs at UTPA provide business development services to the Rio Grande Valley business community.\n\nVBOC Director Alonzo Gracia encourages interested Veterans to attend the workshop and learn how government contracting really works. ''Government contracting is one way for Veteran-owned businesses to expand and further establish themselves in the marketplace\,'' he adds.  \n\nIn addition to information on selling to the government\, a business development specialist from the U.S. Small Business Administration will be present to discuss the agency's programs available for Veterans. \n\nTo register for this seminar\, please contact the Harlingen Area Chamber of Commerce at (956) 423-5440.\n
LOCATION:
UID:e.1828.2190
SEQUENCE:3
DTSTAMP:20260422T125012Z
URL:https://business.harlingen.com/events/details/procurement-for-veterans-workshop-seminar-11-10-2009-2190
END:VEVENT

END:VCALENDAR
