BEGIN:VCALENDAR
VERSION:2.0
PRODID:-//ChamberMaster//Event Calendar 2.0//EN
METHOD:PUBLISH
X-PUBLISHED-TTL:P3D
REFRESH-INTERVAL:P3D
CALSCALE:GREGORIAN
BEGIN:VEVENT
DTSTART:20090826T120000Z
DTEND:20090826T140000Z
X-MICROSOFT-CDO-ALLDAYEVENT:FALSE
SUMMARY:Professional's Complimentary Recognition Breakfast at Canterbury Gardens
DESCRIPTION:Please join us for a complimentary breakfast recognizing Harlingen's finest Professionals. Gather up all of your fellow employees for the following menu: Made to Order Omelets\, Eggs\, Bacon\, Sausage\, Pancakes\, Biscuits & Gravy\, Hot Cereal\, Cold Cereal\, Fresh Fruit\, Danish and Delicious Beverages.  For more information please call \n(956)428-4118.  A Great Networking Opportunity!
X-ALT-DESC;FMTTYPE=text/html:Please join us for a complimentary breakfast recognizing Harlingen's finest Professionals. Gather up all of your fellow employees for the following menu: Made to Order Omelets\, Eggs\, Bacon\, Sausage\, Pancakes\, Biscuits & Gravy\, Hot Cereal\, Cold Cereal\, Fresh Fruit\, Danish and Delicious Beverages.  For more information please call \n(956)428-4118.  A Great Networking Opportunity!\n
LOCATION:
UID:e.1828.2025
SEQUENCE:3
DTSTAMP:20260422T080833Z
URL:https://business.harlingen.com/events/details/professional-s-complimentary-recognition-breakfast-at-canterbury-gardens-08-26-2009-2025
END:VEVENT

END:VCALENDAR
