BEGIN:VCALENDAR
VERSION:2.0
PRODID:-//ChamberMaster//Event Calendar 2.0//EN
METHOD:PUBLISH
X-PUBLISHED-TTL:P3D
REFRESH-INTERVAL:P3D
CALSCALE:GREGORIAN
BEGIN:VEVENT
DTSTART:20110526T223000Z
DTEND:20110526T223000Z
X-MICROSOFT-CDO-ALLDAYEVENT:FALSE
SUMMARY:Promenade Restaurant
DESCRIPTION:Please join in celebrating the grand opening of Promenade. Mini lunch samples and beverages will be served. View banquet facilities available for events and parties and find out more about their catering options.
X-ALT-DESC;FMTTYPE=text/html:Please join in celebrating the grand opening of Promenade. Mini lunch samples and beverages will be served. View banquet facilities available for events and parties and find out more about their catering options. \n
LOCATION:
UID:e.1828.3064
SEQUENCE:3
DTSTAMP:20260421T094011Z
URL:https://business.harlingen.com/events/details/promenade-restaurant-05-26-2011-3064
END:VEVENT

END:VCALENDAR
