BEGIN:VCALENDAR
VERSION:2.0
PRODID:-//ChamberMaster//Event Calendar 2.0//EN
METHOD:PUBLISH
X-PUBLISHED-TTL:P3D
REFRESH-INTERVAL:P3D
CALSCALE:GREGORIAN
BEGIN:VEVENT
DTSTART:20110426T223000Z
DTEND:20110426T223000Z
X-MICROSOFT-CDO-ALLDAYEVENT:FALSE
SUMMARY:ProSound Hearing Center
DESCRIPTION:ProSound Hearing Center is a family owned hearing aid office that dedicates itself to better serve the lower Rio Grande Valley in all its hearing needs. Please join in celebrating their Grand Opening & Ribbon Cutting ceremony. Adult beverages & snacks to be served.
X-ALT-DESC;FMTTYPE=text/html:ProSound Hearing Center is a family owned hearing aid office that dedicates itself to better serve the lower Rio Grande Valley in all its hearing needs. Please join in celebrating their Grand Opening & Ribbon Cutting ceremony. Adult beverages & snacks to be served.\n
LOCATION:
UID:e.1828.3024
SEQUENCE:3
DTSTAMP:20260421T110956Z
URL:https://business.harlingen.com/events/details/prosound-hearing-center-04-26-2011-3024
END:VEVENT

END:VCALENDAR
