BEGIN:VCALENDAR
VERSION:2.0
PRODID:-//ChamberMaster//Event Calendar 2.0//EN
METHOD:PUBLISH
X-PUBLISHED-TTL:P3D
REFRESH-INTERVAL:P3D
CALSCALE:GREGORIAN
BEGIN:VEVENT
DTSTART:20120712T223000Z
DTEND:20120712T223000Z
X-MICROSOFT-CDO-ALLDAYEVENT:FALSE
SUMMARY:ProSpa Concept Day Spa & Salon Ribbon Cutting
DESCRIPTION:Please join us for a ribbon cutting celebration and specials on spa packages!
X-ALT-DESC;FMTTYPE=text/html:Please join us for a ribbon cutting celebration and specials on spa packages! \n
LOCATION:
UID:e.1828.3864
SEQUENCE:3
DTSTAMP:20260420T131940Z
URL:https://business.harlingen.com/events/details/prospa-concept-day-spa-salon-ribbon-cutting-07-12-2012-3864
END:VEVENT

END:VCALENDAR
