BEGIN:VCALENDAR
VERSION:2.0
PRODID:-//ChamberMaster//Event Calendar 2.0//EN
METHOD:PUBLISH
X-PUBLISHED-TTL:P3D
REFRESH-INTERVAL:P3D
CALSCALE:GREGORIAN
BEGIN:VEVENT
DTSTART:20100727T223000Z
DTEND:20100727T223000Z
X-MICROSOFT-CDO-ALLDAYEVENT:FALSE
SUMMARY:Public hearing scheduled for Stuart Place Road in Harlingen
DESCRIPTION:Who\, What\, When & Where\n    \n\n\n    The Texas Department of Transportation Pharr District (TxDOT) and City of Harlingen will hold a public hearing to discuss the proposed Stuart Place Road project in Cameron County. The hearing is schedule for Tuesday\, July 27\, 2010 at Stuart Place Elementary located at 6701 W. Business 83 in Harlingen\, Texas 78552. The hearing will begin with an Exhibit Viewing Period from 5:30 pm to 6:00 pm and a formal presentation will follow\n    at 6:00 pm. This hearing will allow the public the opportunity to view the project details and provide comments.      \n    \n    \n\n\n    Project Information\n    \n\n\n              Project Limits: From 0.101 mile south of Business 83 to 0.70 miles south of US 83 \n    \n    \n\n\n              Project Distance: Approximately 0.598 miles \n    \n    \n\n\n              Project Description: The proposed project would improve mobility and connectivity while at the same time upgrading the existing facility between US\n    83 and Business 83. The proposed improvements would involve reconstructing and widening to a 46-foot wide urban type roadway with two 11-foot wide inside travel lanes and two 12-foot wide outside travel lanes. A 5-foot wide sidewalk would also be provided along the east side of the roadway. At the Business 83 intersection\, an additional 12-foot wide center turning lane would be provided.  \n    \n    \n\n\n              Right-of-Way: The proposed improvements at\n    the Business 83 intersection would require approximately 0.4 acres of additional right-of-way involving commercial\, residential and railroad properties for the center turning lane. \n    \n    \n\n\n    \n     \n    \n\n\n    Additional Information\n    \n\n\n              Comments may be submitted up to 10 days after the public hearing to the Pharr\n    District Engineer\, Mario R. Jorge\, P.E. at P.O. Box 1717\, Pharr\, Texas 78577-1717. Comments may also be sent electronically by facsimile to (956) 702-6110 or e-mailed to rgelsto@dot.state.tx.us\n    \n    \n\n\n    \n     \n    \n\n\n              Maps and other information may be viewed or copied at the TxDOT District Office located at 600 W. Expressway 83 in Pharr\n    or at the San Benito Area Office\, located at 1350 E. Highway 77 in San Benito.\n    \n    \n\n\n    \n     \n    \n\n\n    For more information\, please call Amy Rodriguez at (956) 702-6102.
X-ALT-DESC;FMTTYPE=text/html:<p class="MsoNormal" style="MARGIN: 0in 0in 0pt 0.25in\; TEXT-INDENT: -0.25in\; LINE-HEIGHT: 150%\; mso-layout-grid-align: none">\n    <b style="mso-bidi-font-weight: normal"><span style="FONT-SIZE: 11pt\; LINE-HEIGHT: 150%\; FONT-FAMILY: 'Arial'\,'sans-serif'"><?xml:namespace prefix = o ns = "urn:schemas-microsoft-com:office:office" />Who\, What\, When &amp\; Where<o:p></o:p>\n    </span></b>\n</p>\n<p class="MsoNormal" style="MARGIN: 0in 0in 0pt\; LINE-HEIGHT: 150%">\n    <span style="FONT-SIZE: 11pt\; LINE-HEIGHT: 150%\; FONT-FAMILY: 'Arial'\,'sans-serif'">The Texas Department of Transportation Pharr District (TxDOT) and City of Harlingen will hold a public hearing to discuss the proposed Stuart Place Road project in Cameron County. The hearing is schedule for Tuesday\, July 27\, 2010 at Stuart Place Elementary located at 6701 W. Business 83 in Harlingen\, Texas 78552. The hearing will begin with an Exhibit Viewing Period from 5:30 pm to 6:00 pm and a formal presentation will follow\n    at 6:00 pm. This hearing will allow the public the opportunity to view the project details and provide comments. <span style="mso-tab-count: 1">&nbsp\;&nbsp\;&nbsp\;&nbsp\; </span>\n    <o:p></o:p>\n    </span>\n</p>\n<p class="MsoNormal" style="MARGIN: 0in 0in 0pt 0.25in\; TEXT-INDENT: -0.25in\; LINE-HEIGHT: 150%">\n    <b style="mso-bidi-font-weight: normal"><span style="FONT-SIZE: 11pt\; LINE-HEIGHT: 150%\; FONT-FAMILY: 'Arial'\,'sans-serif'">Project Information<o:p></o:p>\n    </span></b>\n</p>\n<p class="MsoBodyText" style="MARGIN: 0in 0in 0pt 0.25in\; TEXT-INDENT: -0.25in\; LINE-HEIGHT: 150%\; mso-list: l1 level1 lfo2\; tab-stops: list .25in">\n    <span style="FONT-SIZE: 11pt\; LINE-HEIGHT: 150%\; FONT-FAMILY: Symbol\; mso-fareast-font-family: Symbol\; mso-bidi-font-family: Symbol"><span style="mso-list: Ignore">&middot\;<span style="FONT: 7pt 'Times New Roman'">&nbsp\;&nbsp\;&nbsp\;&nbsp\;&nbsp\;&nbsp\;&nbsp\;&nbsp\; </span></span></span><span style="FONT-SIZE: 11pt\; LINE-HEIGHT: 150%\; FONT-FAMILY: 'Arial'\,'sans-serif'">Project Limits: From 0.101 mile south of Business 83 to 0.70 miles south of US 83 \n    <o:p></o:p>\n    </span>\n</p>\n<p class="MsoBodyText" style="MARGIN: 0in 0in 0pt 0.25in\; TEXT-INDENT: -0.25in\; LINE-HEIGHT: 150%\; mso-list: l1 level1 lfo2\; tab-stops: list .25in">\n    <span style="FONT-SIZE: 11pt\; LINE-HEIGHT: 150%\; FONT-FAMILY: Symbol\; mso-fareast-font-family: Symbol\; mso-bidi-font-family: Symbol"><span style="mso-list: Ignore">&middot\;<span style="FONT: 7pt 'Times New Roman'">&nbsp\;&nbsp\;&nbsp\;&nbsp\;&nbsp\;&nbsp\;&nbsp\;&nbsp\; </span></span></span><span style="FONT-SIZE: 11pt\; LINE-HEIGHT: 150%\; FONT-FAMILY: 'Arial'\,'sans-serif'">Project Distance: Approximately 0.598 miles \n    <o:p></o:p>\n    </span>\n</p>\n<p class="MsoBodyText" style="MARGIN: 0in 0in 0pt 0.25in\; TEXT-INDENT: -0.25in\; LINE-HEIGHT: 150%\; mso-list: l1 level1 lfo2\; tab-stops: list .25in">\n    <span style="FONT-SIZE: 11pt\; LINE-HEIGHT: 150%\; FONT-FAMILY: Symbol\; mso-fareast-font-family: Symbol\; mso-bidi-font-family: Symbol"><span style="mso-list: Ignore">&middot\;<span style="FONT: 7pt 'Times New Roman'">&nbsp\;&nbsp\;&nbsp\;&nbsp\;&nbsp\;&nbsp\;&nbsp\;&nbsp\; </span></span></span><span style="FONT-SIZE: 11pt\; LINE-HEIGHT: 150%\; FONT-FAMILY: 'Arial'\,'sans-serif'">Project Description: The proposed project would improve mobility and connectivity while at the same time upgrading the existing facility between US\n    83 and Business 83.<span style="COLOR: red"> </span>The proposed improvements would involve reconstructing and widening to a 46-foot wide urban type roadway with two 11-foot wide inside travel lanes and two 12-foot wide outside travel lanes. A 5-foot wide sidewalk would also be provided along the east side of the roadway. At the Business 83 intersection\, an additional 12-foot wide center turning lane would be provided. <span style="mso-spacerun: yes">&nbsp\;</span>\n    <o:p></o:p>\n    </span>\n</p>\n<p class="MsoBodyText" style="MARGIN: 0in 0in 0pt 0.25in\; TEXT-INDENT: -0.25in\; LINE-HEIGHT: 150%\; mso-list: l1 level1 lfo2\; tab-stops: list .25in">\n    <span style="FONT-SIZE: 11pt\; LINE-HEIGHT: 150%\; FONT-FAMILY: Symbol\; mso-fareast-font-family: Symbol\; mso-bidi-font-family: Symbol"><span style="mso-list: Ignore">&middot\;<span style="FONT: 7pt 'Times New Roman'">&nbsp\;&nbsp\;&nbsp\;&nbsp\;&nbsp\;&nbsp\;&nbsp\;&nbsp\; </span></span></span><span style="FONT-SIZE: 11pt\; LINE-HEIGHT: 150%\; FONT-FAMILY: 'Arial'\,'sans-serif'\; mso-bidi-font-family: 'Times New Roman'">Right-of-Way: The proposed improvements </span><span style="FONT-SIZE: 11pt\; LINE-HEIGHT: 150%\; FONT-FAMILY: 'Arial'\,'sans-serif'">at\n    the Business 83 intersection</span><span style="FONT-SIZE: 11pt\; LINE-HEIGHT: 150%\; FONT-FAMILY: 'Arial'\,'sans-serif'\; mso-bidi-font-family: 'Times New Roman'"> would </span><span style="FONT-SIZE: 11pt\; LINE-HEIGHT: 150%\; FONT-FAMILY: 'Arial'\,'sans-serif'">require approximately 0.4 acres of additional right-of-way involving commercial\, residential and railroad properties for the center turning lane. \n    <o:p></o:p>\n    </span>\n</p>\n<p class="MsoBodyText" style="MARGIN: 0in 0in 0pt 0.25in\; TEXT-INDENT: -0.25in\; LINE-HEIGHT: 150%">\n    <b style="mso-bidi-font-weight: normal"><span style="FONT-SIZE: 8pt\; LINE-HEIGHT: 150%\; FONT-FAMILY: 'Arial'\,'sans-serif'">\n    <o:p>&nbsp\;</o:p>\n    </span></b>\n</p>\n<p class="MsoNormal" style="MARGIN: 0in 0in 0pt 0.25in\; TEXT-INDENT: -0.25in\; LINE-HEIGHT: 150%\; tab-stops: list 22.5pt">\n    <b style="mso-bidi-font-weight: normal"><span style="FONT-SIZE: 11pt\; LINE-HEIGHT: 150%\; FONT-FAMILY: 'Arial'\,'sans-serif'">Additional Information<o:p></o:p>\n    </span></b>\n</p>\n<p class="MsoNormal" style="MARGIN: 0in 0in 0pt 0.25in\; TEXT-INDENT: -0.25in\; LINE-HEIGHT: 150%\; mso-pagination: none\; mso-list: l2 level1 lfo3\; tab-stops: list .25in .5in">\n    <span style="FONT-SIZE: 11pt\; COLOR: black\; LINE-HEIGHT: 150%\; FONT-FAMILY: Symbol\; mso-fareast-font-family: Symbol\; mso-bidi-font-family: Symbol"><span style="mso-list: Ignore">&middot\;<span style="FONT: 7pt 'Times New Roman'">&nbsp\;&nbsp\;&nbsp\;&nbsp\;&nbsp\;&nbsp\;&nbsp\;&nbsp\; </span></span></span><span style="FONT-SIZE: 11pt\; COLOR: black\; LINE-HEIGHT: 150%\; FONT-FAMILY: 'Arial'\,'sans-serif'">Comments may be submitted up to 10 days after the public hearing<b style="mso-bidi-font-weight: normal"> </b>to the Pharr\n    District Engineer\, Mario R. Jorge\, P.E. at P.O. Box 1717\, Pharr\, Texas 78577-1717. Comments may also be sent electronically by facsimile to (956) 702-6110 or e-mailed to <a href="mailto:rgelsto@dot.state.tx.us">rgelsto@dot.state.tx.us</a>\n    <o:p></o:p>\n    </span>\n</p>\n<p class="MsoNormal" style="MARGIN: 0in 0in 0pt\; LINE-HEIGHT: 150%\; TEXT-ALIGN: center\; mso-pagination: none\; tab-stops: list .5in" align="center">\n    <span style="FONT-SIZE: 8pt\; COLOR: black\; LINE-HEIGHT: 150%\; FONT-FAMILY: 'Arial'\,'sans-serif'">\n    <o:p>&nbsp\;</o:p>\n    </span>\n</p>\n<p class="MsoNormal" style="MARGIN: 0in 0in 0pt 0.25in\; TEXT-INDENT: -0.25in\; LINE-HEIGHT: 150%\; mso-pagination: none\; mso-list: l0 level1 lfo1\; tab-stops: list .25in .5in">\n    <span style="FONT-SIZE: 11pt\; LINE-HEIGHT: 150%\; FONT-FAMILY: Symbol\; mso-fareast-font-family: Symbol\; mso-bidi-font-family: Symbol"><span style="mso-list: Ignore">&middot\;<span style="FONT: 7pt 'Times New Roman'">&nbsp\;&nbsp\;&nbsp\;&nbsp\;&nbsp\;&nbsp\;&nbsp\;&nbsp\; </span></span></span><span style="FONT-SIZE: 11pt\; LINE-HEIGHT: 150%\; FONT-FAMILY: 'Arial'\,'sans-serif'">Maps and other information may be viewed or copied at the TxDOT District Office <span style="COLOR: black">located at 600 W. Expressway 83 in Pharr\n    or at the San Benito Area Office\, located at 1350 E. Highway 77 in San Benito.</span>\n    <o:p></o:p>\n    </span>\n</p>\n<p class="MsoNormal" style="MARGIN: 0in 0in 0pt\; LINE-HEIGHT: 150%\; mso-pagination: none\; tab-stops: list .5in">\n    <span style="FONT-SIZE: 11pt\; LINE-HEIGHT: 150%\; FONT-FAMILY: 'Arial'\,'sans-serif'">\n    <o:p>&nbsp\;</o:p>\n    </span>\n</p>\n<p class="MsoNormal" style="MARGIN: 0in 0in 0pt 0.25in\; TEXT-INDENT: -0.25in\; mso-layout-grid-align: none">\n    <span style="FONT-SIZE: 11pt\; FONT-FAMILY: 'Arial'\,'sans-serif'">For more information\, please call Amy Rodriguez at (956) 702-6102.<o:p></o:p>\n    </span>\n</p>
LOCATION:
UID:e.1828.2613
SEQUENCE:3
DTSTAMP:20260422T015748Z
URL:https://business.harlingen.com/events/details/public-hearing-scheduled-for-stuart-place-road-in-harlingen-07-27-2010-2613
END:VEVENT

END:VCALENDAR
