BEGIN:VCALENDAR
VERSION:2.0
PRODID:-//ChamberMaster//Event Calendar 2.0//EN
METHOD:PUBLISH
X-PUBLISHED-TTL:P3D
REFRESH-INTERVAL:P3D
CALSCALE:GREGORIAN
BEGIN:VEVENT
DTSTART:20101109T150000Z
DTEND:20101109T210000Z
X-MICROSOFT-CDO-ALLDAYEVENT:FALSE
SUMMARY:PUBLIC SAFETY CAREER EXPO SET FOR TSTC
DESCRIPTION:Men & women interested in seeking law enforcement\, firefighter & emergency response positions are invited to the Public Safety Career Expo. The event is free and open to the public.\nJob candidates should bring resumes. Workforce Solutions Cameron personnel will assist participants with resume revisions and job search recommendations.\n\nThe Lower Rio Grande Valley Development Council Regional Police Academy and Training Center and TSTC Corporate and Community Education are sponsoring the event. More than 20 agencies involving law enforcement\, fire and emergency medical services seeking new employees are expected to attend. Departments that wish to register for the event should call Sandra Garza at the Regional Police Academy and Training Center at 956.364.4606 or send e-mail to cmartinez@lrgvdc.org.
X-ALT-DESC;FMTTYPE=text/html:Men & women interested in seeking law enforcement\, firefighter & emergency response positions are invited to the Public Safety Career Expo. The event is free and open to the public.\nJob candidates should bring resumes. Workforce Solutions Cameron personnel will assist participants with resume revisions and job search recommendations.\n\nThe Lower Rio Grande Valley Development Council Regional Police Academy and Training Center and TSTC Corporate and Community Education are sponsoring the event. More than 20 agencies involving law enforcement\, fire and emergency medical services seeking new employees are expected to attend. Departments that wish to register for the event should call Sandra Garza at the Regional Police Academy and Training Center at 956.364.4606 or send e-mail to cmartinez@lrgvdc.org.\n
LOCATION:TSTC Cultural Arts Center
UID:e.1828.2842
SEQUENCE:3
DTSTAMP:20260421T190458Z
URL:https://business.harlingen.com/events/details/public-safety-career-expo-set-for-tstc-11-09-2010-2842
END:VEVENT

END:VCALENDAR
