BEGIN:VCALENDAR
VERSION:2.0
PRODID:-//ChamberMaster//Event Calendar 2.0//EN
METHOD:PUBLISH
X-PUBLISHED-TTL:P3D
REFRESH-INTERVAL:P3D
CALSCALE:GREGORIAN
BEGIN:VEVENT
DTSTART;VALUE=DATE:20120301
DTEND;VALUE=DATE:20120501
TRANSP:TRANSPARENT
X-MICROSOFT-CDO-ALLDAYEVENT:TRUE
SUMMARY:Purse donations needed for Mega Purse Sale
DESCRIPTION:The Literacy Center of Harlingen and the Valley Morning Star are accepting donations of quality new and gently used purses\, wallets\; handbags\; totes\; accessories\; costume jewelry\; sunglasses\; belts and hats. All items are tax deductible and should be clean and of good quality.  \nDonated items will be sold at the Mega Purse Sale to be held May 4 & 5 in Harlingen and all proceeds will benefit literacy programs.\nDrop off donations at the Valley Morning Star or The Literacy Center. For more information call Linda Klowetter at 428-8883 or Marcia Kitten at 430-6256.
X-ALT-DESC;FMTTYPE=text/html:The Literacy Center of Harlingen and the Valley Morning Star are accepting donations of quality new and gently used purses\, wallets\; handbags\; totes\; accessories\; costume jewelry\; sunglasses\; belts and hats. All items are tax deductible and should be clean and of good quality.  \nDonated items will be sold at the Mega Purse Sale to be held May 4 & 5 in Harlingen and all proceeds will benefit literacy programs.\nDrop off donations at the Valley Morning Star or The Literacy Center. For more information call Linda Klowetter at 428-8883 or Marcia Kitten at 430-6256. \n
LOCATION:
UID:e.1828.3476
SEQUENCE:3
DTSTAMP:20260420T181921Z
URL:https://business.harlingen.com/events/details/purse-donations-needed-for-mega-purse-sale-03-01-2012-3476
END:VEVENT

END:VCALENDAR
