BEGIN:VCALENDAR
VERSION:2.0
PRODID:-//ChamberMaster//Event Calendar 2.0//EN
METHOD:PUBLISH
X-PUBLISHED-TTL:P3D
REFRESH-INTERVAL:P3D
CALSCALE:GREGORIAN
BEGIN:VEVENT
DTSTART;VALUE=DATE:20100625
DTEND;VALUE=DATE:20100627
TRANSP:TRANSPARENT
X-MICROSOFT-CDO-ALLDAYEVENT:TRUE
SUMMARY:Quick Lane Tire Sales Event at Boggus Ford Harlingen
DESCRIPTION:Come by Boggus Ford Harlingen for the Quick Lane Tire Sales Event.  Free tire rotation for life of tires (must be 7\,500 miles apart)\, free vehicle check-up report\, free Nitro-Fill nitrogen\, free alignment with purchase of set of 4 tires.   Free carwash!!!  Guarenteed low prices.  Servicing all makes & models.  Be on hand for raffles\, prizes\, food & drinks\, plus service specials.  Sign up for the funniest family picture with vehicle contest.  Call 956-430-7048 for more information.
X-ALT-DESC;FMTTYPE=text/html:Come by Boggus Ford Harlingen for the Quick Lane Tire Sales Event.  Free tire rotation for life of tires (must be 7\,500 miles apart)\, free vehicle check-up report\, free Nitro-Fill nitrogen\, free alignment with purchase of set of 4 tires.   Free carwash!!!  Guarenteed low prices.  Servicing all makes & models.  Be on hand for raffles\, prizes\, food & drinks\, plus service specials.  Sign up for the funniest family picture with vehicle contest.  Call 956-430-7048 for more information.
LOCATION:
UID:e.1828.2550
SEQUENCE:3
DTSTAMP:20260422T032056Z
URL:https://business.harlingen.com/events/details/quick-lane-tire-sales-event-at-boggus-ford-harlingen-06-25-2010-2550
END:VEVENT

END:VCALENDAR
