BEGIN:VCALENDAR
VERSION:2.0
PRODID:-//ChamberMaster//Event Calendar 2.0//EN
METHOD:PUBLISH
X-PUBLISHED-TTL:P3D
REFRESH-INTERVAL:P3D
CALSCALE:GREGORIAN
BEGIN:VEVENT
DTSTART:20120612T133000Z
DTEND:20120612T213000Z
X-MICROSOFT-CDO-ALLDAYEVENT:FALSE
SUMMARY:Quickbooks 2 Day Conference
DESCRIPTION:Quickbooks 2 Day Conference Presented by Quickbooks Certified Expert\, Holly Fullingim.\n\nTuesday\, June 12\, 2012 and\nWednesday\, June 13\, 2012 \n8:30 a.m. to 4:30 p.m.  \n\nRegistration Fees:  $245.00 each day (lunch included) or Save $100 and register for Day 1 and Day 2 together for $390.00. Register online:  www.quickbookshelpfast.com or call (956) 428-7777.  Seating is limited.
X-ALT-DESC;FMTTYPE=text/html:Quickbooks 2 Day Conference Presented by Quickbooks Certified Expert\, Holly Fullingim.\n\nTuesday\, June 12\, 2012 and\nWednesday\, June 13\, 2012 \n8:30 a.m. to 4:30 p.m.  \n\nRegistration Fees:  $245.00 each day (lunch included) or Save $100 and register for Day 1 and Day 2 together for $390.00. Register online:  www.quickbookshelpfast.com or call (956) 428-7777.  Seating is limited.  
LOCATION:
UID:e.1828.3703
SEQUENCE:3
DTSTAMP:20260420T131516Z
URL:https://business.harlingen.com/events/details/quickbooks-2-day-conference-06-12-2012-3703
END:VEVENT

END:VCALENDAR
