BEGIN:VCALENDAR
VERSION:2.0
PRODID:-//ChamberMaster//Event Calendar 2.0//EN
METHOD:PUBLISH
X-PUBLISHED-TTL:P3D
REFRESH-INTERVAL:P3D
CALSCALE:GREGORIAN
BEGIN:VEVENT
DTSTART:20120828T133000Z
DTEND:20120828T213000Z
X-MICROSOFT-CDO-ALLDAYEVENT:FALSE
SUMMARY:Quickbooks 2-Day Training Conference
DESCRIPTION:Quickbooks 2-Day Training Conference  \nTuesday\, August 28\, 2012\nWednesday\, August 29\, 2012\n\nPresented by Quick Compute\nRegistration Fees:  $245 each day\nSave $100 and register for Day 1 and Day 2 together for $390\nRegister Online:  www.quickbookshelpfast.com. Seating is limited.
X-ALT-DESC;FMTTYPE=text/html:Quickbooks 2-Day Training Conference  \nTuesday\, August 28\, 2012\nWednesday\, August 29\, 2012\n\nPresented by Quick Compute\nRegistration Fees:  $245 each day\nSave $100 and register for Day 1 and Day 2 together for $390\nRegister Online:  www.quickbookshelpfast.com. Seating is limited. \n
LOCATION:
UID:e.1828.3938
SEQUENCE:3
DTSTAMP:20260420T101110Z
URL:https://business.harlingen.com/events/details/quickbooks-2-day-training-conference-08-28-2012-3938
END:VEVENT

END:VCALENDAR
