BEGIN:VCALENDAR
VERSION:2.0
PRODID:-//ChamberMaster//Event Calendar 2.0//EN
METHOD:PUBLISH
X-PUBLISHED-TTL:P3D
REFRESH-INTERVAL:P3D
CALSCALE:GREGORIAN
BEGIN:VEVENT
DTSTART:20120724T133000Z
DTEND:20120725T213000Z
X-MICROSOFT-CDO-ALLDAYEVENT:FALSE
SUMMARY:Quickbooks 2 Day Training Conference Sponsored by eBiz Resource Center
DESCRIPTION:Quickbooks 2 Day Training Conference Sponsored by eBiz Resource Center  \nDay 1 - The Basics/Tuesday\, July 24\, 2012\nDay 2 - Payroll/Wednesday\, July 25\, 2012 \n8:30 a.m. to 4:30 p.m. \n\nRegistration fees:  $245 Each Day\nSave $100 and register for Day 1 and Day 2 together for $390\nRegister online: www.quickbookshelpfast.com or call \n(956) 428-7777.
X-ALT-DESC;FMTTYPE=text/html:Quickbooks 2 Day Training Conference Sponsored by eBiz Resource Center  \nDay 1 - The Basics/Tuesday\, July 24\, 2012\nDay 2 - Payroll/Wednesday\, July 25\, 2012 \n8:30 a.m. to 4:30 p.m. \n\nRegistration fees:  $245 Each Day\nSave $100 and register for Day 1 and Day 2 together for $390\nRegister online: www.quickbookshelpfast.com or call \n(956) 428-7777. \n
LOCATION:
UID:e.1828.3871
SEQUENCE:3
DTSTAMP:20260420T114540Z
URL:https://business.harlingen.com/events/details/quickbooks-2-day-training-conference-sponsored-by-ebiz-resource-center-07-24-2012-3871
END:VEVENT

END:VCALENDAR
