BEGIN:VCALENDAR
VERSION:2.0
PRODID:-//ChamberMaster//Event Calendar 2.0//EN
METHOD:PUBLISH
X-PUBLISHED-TTL:P3D
REFRESH-INTERVAL:P3D
CALSCALE:GREGORIAN
BEGIN:VEVENT
DTSTART:20100424T180000Z
DTEND:20100424T210000Z
X-MICROSOFT-CDO-ALLDAYEVENT:FALSE
SUMMARY:R.I.P. Free Cemetery Tours
DESCRIPTION:As part of the Harlingen Cenennial Celebration\, the Hispanic Genealogy Group invites you to free tours of the Harlingen City Cemetery.  For more information\, please call Ofelia Olsson at 956-454-0006.
X-ALT-DESC;FMTTYPE=text/html:As part of the Harlingen Cenennial Celebration\, the Hispanic Genealogy Group invites you to free tours of the Harlingen City Cemetery.  For more information\, please call Ofelia Olsson at 956-454-0006.
LOCATION:
UID:e.1828.2495
SEQUENCE:3
DTSTAMP:20260422T062706Z
URL:https://business.harlingen.com/events/details/r-i-p-free-cemetery-tours-04-24-2010-2495
END:VEVENT

END:VCALENDAR
