BEGIN:VCALENDAR
VERSION:2.0
PRODID:-//ChamberMaster//Event Calendar 2.0//EN
METHOD:PUBLISH
X-PUBLISHED-TTL:P3D
REFRESH-INTERVAL:P3D
CALSCALE:GREGORIAN
BEGIN:VEVENT
DTSTART:20120613T140000Z
DTEND:20120613T170000Z
X-MICROSOFT-CDO-ALLDAYEVENT:FALSE
SUMMARY:RAHC Health Statistics on the Web
DESCRIPTION:Health Statistics on the Web: It's as Easy as ...1\,2\,3 Mario E. Ramirez\, M.D.\, Library\, Classroom-1. 132 \n\nInstructor Michelle Malizia\, MA\, Associate Director\, National Network of Libraries of Medicine. South Central Region\, Houston Academy of Medicine-Texas Medical Center Library. \n\nRegister: Go to http://library.uthscsa.edu/events/and select the class you wish to attend using the event calendar.
X-ALT-DESC;FMTTYPE=text/html:Health Statistics on the Web: It's as Easy as ...1\,2\,3 Mario E. Ramirez\, M.D.\, Library\, Classroom-1. 132 \n\nInstructor Michelle Malizia\, MA\, Associate Director\, National Network of Libraries of Medicine. South Central Region\, Houston Academy of Medicine-Texas Medical Center Library. \n\nRegister: Go to http://library.uthscsa.edu/events/and select the class you wish to attend using the event calendar. \n\n
LOCATION:
UID:e.1828.3756
SEQUENCE:3
DTSTAMP:20260420T131702Z
URL:https://business.harlingen.com/events/details/rahc-health-statistics-on-the-web-06-13-2012-3756
END:VEVENT

END:VCALENDAR
