BEGIN:VCALENDAR
VERSION:2.0
PRODID:-//ChamberMaster//Event Calendar 2.0//EN
METHOD:PUBLISH
X-PUBLISHED-TTL:P3D
REFRESH-INTERVAL:P3D
CALSCALE:GREGORIAN
BEGIN:VEVENT
DTSTART:20120614T230000Z
DTEND:20120614T233000Z
X-MICROSOFT-CDO-ALLDAYEVENT:FALSE
SUMMARY:RAHC Open House Exhibition of RAHC Departments and Programs
DESCRIPTION:Guided Tours of the RAHC.
X-ALT-DESC;FMTTYPE=text/html:Guided Tours of the RAHC.
LOCATION:
UID:e.1828.3760
SEQUENCE:3
DTSTAMP:20260420T132424Z
URL:https://business.harlingen.com/events/details/rahc-open-house-exhibition-of-rahc-departments-and-programs-06-14-2012-3760
END:VEVENT

END:VCALENDAR
