BEGIN:VCALENDAR
VERSION:2.0
PRODID:-//ChamberMaster//Event Calendar 2.0//EN
METHOD:PUBLISH
X-PUBLISHED-TTL:P3D
REFRESH-INTERVAL:P3D
CALSCALE:GREGORIAN
BEGIN:VEVENT
DTSTART:20120615T130000Z
DTEND:20120615T140000Z
X-MICROSOFT-CDO-ALLDAYEVENT:FALSE
SUMMARY:RAHC Open House Guided Tour of the RAHC
DESCRIPTION:General Guided Tours of the RAHC.
X-ALT-DESC;FMTTYPE=text/html:General Guided Tours of the RAHC. \n
LOCATION:
UID:e.1828.3754
SEQUENCE:3
DTSTAMP:20260420T132631Z
URL:https://business.harlingen.com/events/details/rahc-open-house-guided-tour-of-the-rahc-06-15-2012-3754
END:VEVENT

END:VCALENDAR
