BEGIN:VCALENDAR
VERSION:2.0
PRODID:-//ChamberMaster//Event Calendar 2.0//EN
METHOD:PUBLISH
X-PUBLISHED-TTL:P3D
REFRESH-INTERVAL:P3D
CALSCALE:GREGORIAN
BEGIN:VEVENT
DTSTART:20120519T160000Z
DTEND:20120519T160000Z
X-MICROSOFT-CDO-ALLDAYEVENT:FALSE
SUMMARY:Rally Around the WhiteWings Parade
DESCRIPTION:Join us as the 2012 WhiteWing players parade down Jackson Street in vehicles\, along with  WildWing\, the team mascot.  They will disembark at 'A' and Jackson Streets\, where they will sign autographs and have their pictures taken with fans in the park.  Other groups will also participate in the WhiteWings parade on Saturday.
X-ALT-DESC;FMTTYPE=text/html:Join us as the 2012 WhiteWing players parade down Jackson Street in vehicles\, along with  WildWing\, the team mascot.  They will disembark at 'A' and Jackson Streets\, where they will sign autographs and have their pictures taken with fans in the park.  Other groups will also participate in the WhiteWings parade on Saturday.\n
LOCATION:
UID:e.1828.3659
SEQUENCE:3
DTSTAMP:20260420T150525Z
URL:https://business.harlingen.com/events/details/rally-around-the-whitewings-parade-05-19-2012-3659
END:VEVENT

END:VCALENDAR
