BEGIN:VCALENDAR
VERSION:2.0
PRODID:-//ChamberMaster//Event Calendar 2.0//EN
METHOD:PUBLISH
X-PUBLISHED-TTL:P3D
REFRESH-INTERVAL:P3D
CALSCALE:GREGORIAN
BEGIN:VEVENT
DTSTART;VALUE=DATE:20110601
DTEND;VALUE=DATE:20110604
TRANSP:TRANSPARENT
X-MICROSOFT-CDO-ALLDAYEVENT:TRUE
SUMMARY:Rebuild\, Restore\, & Regionalize" 3 R's of Post-Disaster & Economic Recovery Conference
DESCRIPTION:Isla Grande Beach Resort - South Padre Island\nPost disaster and economic recovery is a topic of interest to all of us. This conference promises to provide us with the latest information on the critical topics that are important and necessary to the local businesses owners and staff\, as well as to individuals and organizations that work with our communities. The conference consists of three educational tracks that have been fashioned to increase the opportunity for building capacity in your business and/or community. You may get additional information at the Lower Rio Grande Valley Development Council web page  www.lrgvdc.org. Contact Terrie Salinas e-mail tsalinas@lrgvdc.org or Rogelio Leal e-mail rleal@lrgvdc.org
X-ALT-DESC;FMTTYPE=text/html:Isla Grande Beach Resort - South Padre Island\nPost disaster and economic recovery is a topic of interest to all of us. This conference promises to provide us with the latest information on the critical topics that are important and necessary to the local businesses owners and staff\, as well as to individuals and organizations that work with our communities. The conference consists of three educational tracks that have been fashioned to increase the opportunity for building capacity in your business and/or community. You may get additional information at the Lower Rio Grande Valley Development Council web page  www.lrgvdc.org. Contact Terrie Salinas e-mail tsalinas@lrgvdc.org or Rogelio Leal e-mail rleal@lrgvdc.org
LOCATION:
UID:e.1828.3067
SEQUENCE:3
DTSTAMP:20260421T094807Z
URL:https://business.harlingen.com/events/details/rebuild-restore-regionalize-3-r-s-of-post-disaster-economic-recovery-conference-06-01-2011-3067
END:VEVENT

END:VCALENDAR
