BEGIN:VCALENDAR
VERSION:2.0
PRODID:-//ChamberMaster//Event Calendar 2.0//EN
METHOD:PUBLISH
X-PUBLISHED-TTL:P3D
REFRESH-INTERVAL:P3D
CALSCALE:GREGORIAN
BEGIN:VEVENT
DTSTART:20111120T200000Z
DTEND:20111120T213000Z
X-MICROSOFT-CDO-ALLDAYEVENT:FALSE
SUMMARY:RECEPTION for ''TELLING OUR STORY\,''
DESCRIPTION:The RGV Museum Association and the Texas Historical Commission are proud to present ''TELLING OUR STORY\,'' a DVD produced by Association volunteers and the Media Department of Harlingen High School South\, depicting the history of Harlingen.  The new brochure\, spotlighting museums across the Valley\, will also be available for the first time.
X-ALT-DESC;FMTTYPE=text/html:The RGV Museum Association and the Texas Historical Commission are proud to present ''TELLING OUR STORY\,'' a DVD produced by Association volunteers and the Media Department of Harlingen High School South\, depicting the history of Harlingen.  The new brochure\, spotlighting museums across the Valley\, will also be available for the first time.\n\n
LOCATION:
UID:e.1828.3261
SEQUENCE:3
DTSTAMP:20260421T003744Z
URL:https://business.harlingen.com/events/details/reception-for-telling-our-story-11-20-2011-3261
END:VEVENT

END:VCALENDAR
